BEGIN:VCALENDAR
VERSION:2.0
PRODID:-//eventon.com NONSGML v1.0//EN
CALSCALE:GREGORIAN
METHOD:PUBLISH
BEGIN:VEVENT
UID:69e58ce406a0b
DTSTAMP:20260420T021812Z
DTSTART:20190516T180000Z
DTEND:20190516T190000Z
LOCATION:RCBDD Admin Building 167 W Main St.
SUMMARY:RCBDD Board Meeting*
DESCRIPTION:*Note Date Change* 5:00pm &#8211; Finance Committee 6:00pm &#82
 11; Regular Board Meeting Board meetings are open to the public.\nhttps://r
 ossdd.org/events/rcbdd-board-meeting-519/
URL:https://rossdd.org/events/rcbdd-board-meeting-519/
END:VEVENT
END:VCALENDAR