BEGIN:VCALENDAR
VERSION:2.0
PRODID:-//eventon.com NONSGML v1.0//EN
CALSCALE:GREGORIAN
METHOD:PUBLISH
BEGIN:VEVENT
UID:69e6288acbceb
DTSTAMP:20260420T132218Z
DTSTART:20180816T180000Z
DTEND:20180816T190000Z
LOCATION:RCBDD Admin Building 167 W Main St.
SUMMARY:August Board Meeting
DESCRIPTION:Regular Board Meeting (no committee meetings or training schedu
 led prior).\nhttps://rossdd.org/events/august-board-meeting/
URL:https://rossdd.org/events/august-board-meeting/
END:VEVENT
END:VCALENDAR