BEGIN:VCALENDAR
VERSION:2.0
PRODID:-//eventon.com NONSGML v1.0//EN
CALSCALE:GREGORIAN
METHOD:PUBLISH
BEGIN:VEVENT
UID:69e64dd20df19
DTSTAMP:20260420T160122Z
DTSTART:20181017T120000Z
DTEND:20181017T180000Z
LOCATION:
SUMMARY:Soup Kitchen Volunteer
DESCRIPTION:NO PAWS THIS DAY. &nbsp;\nhttps://rossdd.org/events/soup-kitche
 n-volunteer/
URL:https://rossdd.org/events/soup-kitchen-volunteer/
END:VEVENT
END:VCALENDAR