BEGIN:VCALENDAR
VERSION:2.0
PRODID:-//eventon.com NONSGML v1.0//EN
CALSCALE:GREGORIAN
METHOD:PUBLISH
BEGIN:VEVENT
UID:69e7a6e974a6a
DTSTAMP:20260421T163345Z
DTSTART:20181220T173000Z
DTEND:20181220T193000Z
LOCATION:RCBDD Admin Building 167 W Main St.
SUMMARY:Adult Rec: Christmas Caroling and McDonald's Outing
DESCRIPTION:Please meet at 167 West Main Street at 5:30pm\,  we will leave 
 shortly afterwards. Wear warm jackets!\nhttps://rossdd.org/events/adult-rec
 -christmas-caroling-and-mcdonalds-outing/
URL:https://rossdd.org/events/adult-rec-christmas-caroling-and-mcdonalds-outing/
END:VEVENT
END:VCALENDAR