BEGIN:VCALENDAR
VERSION:2.0
PRODID:-//eventon.com NONSGML v1.0//EN
CALSCALE:GREGORIAN
METHOD:PUBLISH
BEGIN:VEVENT
UID:69e87716e12bb
DTSTAMP:20260422T072158Z
DTSTART:20190429T170000Z
DTEND:20190429T190000Z
LOCATION:Pioneer School 11268 County Road 550
SUMMARY:Adult Rec: Spring Dance at Pioneer School
DESCRIPTION:Snacks provided.\nhttps://rossdd.org/events/adult-rec-spring-da
 nce-at-pioneer-school/
URL:https://rossdd.org/events/adult-rec-spring-dance-at-pioneer-school/
END:VEVENT
END:VCALENDAR