BEGIN:VCALENDAR
VERSION:2.0
PRODID:-//eventon.com NONSGML v1.0//EN
CALSCALE:GREGORIAN
METHOD:PUBLISH
BEGIN:VEVENT
UID:69e71b3d67e24
DTSTAMP:20260421T063749Z
DTSTART:20191003T093000Z
DTEND:20191004T103000Z
LOCATION:
SUMMARY:Adult Rec: Nature Club - Buzzards Roost
DESCRIPTION:We will meet at Save A Lot Store parking lot at 9:30am. For mor
 e info\,  contact Ric (rmcconnell@rossdd.org)\nhttps://rossdd.org/events/ad
 ult-rec-nature-club-buzzards-roost/
URL:https://rossdd.org/events/adult-rec-nature-club-buzzards-roost/
END:VEVENT
END:VCALENDAR