BEGIN:VCALENDAR
VERSION:2.0
PRODID:-//eventon.com NONSGML v1.0//EN
CALSCALE:GREGORIAN
METHOD:PUBLISH
BEGIN:VEVENT
UID:69e74a7e02398
DTSTAMP:20260421T095926Z
DTSTART:20200501T083000Z
DTEND:20200501T093000Z
LOCATION:RCBDD Admin Building 167 W Main St.
SUMMARY:RCBDD Finance Committee Meeting
DESCRIPTION:RCBDD Finance Committee Meeting\nhttps://rossdd.org/events/rcbd
 d-finance-committee-meeting/
URL:https://rossdd.org/events/rcbdd-finance-committee-meeting/
END:VEVENT
END:VCALENDAR