BEGIN:VCALENDAR
VERSION:2.0
PRODID:-//eventon.com NONSGML v1.0//EN
CALSCALE:GREGORIAN
METHOD:PUBLISH
BEGIN:VEVENT
UID:69e75c5eb9d6c
DTSTAMP:20260421T111542Z
DTSTART:20210105T150000Z
DTEND:20210105T160000Z
LOCATION:https://zoom.us/j/92311710290?pwd=RjlXUzVaZENweFRhV2tjdUZ0SEs1UT09
SUMMARY:Talk w/ Trey
DESCRIPTION:Come hang out and chat with Trey! Join Zoom Meetinghttps://zoom
 .us/j/92311710290?pwd=RjlXUzVaZENweFRhV2tjdUZ0SEs1UT09 Meeting ID: 923 1171
  0290Passcode: TreyOne tap mobile+13126266799\, \, 92311710290#\, \, \, \, 
 938514# US (Chicago) +19292056099\, \, 92311710290#\, \, \, \, 938514# US (
 New York)\nhttps://rossdd.org/events/talk-w-trey-2/var/event_access
URL:https://rossdd.org/events/talk-w-trey-2/var/event_access
END:VEVENT
END:VCALENDAR