BEGIN:VCALENDAR
VERSION:2.0
PRODID:-//eventon.com NONSGML v1.0//EN
CALSCALE:GREGORIAN
METHOD:PUBLISH
BEGIN:VEVENT
UID:69e606c15968f
DTSTAMP:20260420T105809Z
DTSTART:20220512T220000Z
DTEND:20220512T230000Z
LOCATION:RCBDD Admin Building 167 W Main St.
SUMMARY:RCBDD Board Meeting
DESCRIPTION:This meeting is open to the public.\nhttps://rossdd.org/events/
 rcbdd-board-meeting-9/
URL:https://rossdd.org/events/rcbdd-board-meeting-9/
END:VEVENT
END:VCALENDAR