BEGIN:VCALENDAR
VERSION:2.0
PRODID:-//eventon.com NONSGML v1.0//EN
CALSCALE:GREGORIAN
METHOD:PUBLISH
BEGIN:VEVENT
UID:69e5a16008d7a
DTSTAMP:20260420T034536Z
DTSTART:20230302T150000Z
DTEND:20230302T160000Z
LOCATION:Yoctangee Park Yoctangee Park
SUMMARY:DD Month Walk for Awareness
DESCRIPTION:\nhttps://rossdd.org/events/dd-month-walk-for-awareness/
URL:https://rossdd.org/events/dd-month-walk-for-awareness/
END:VEVENT
END:VCALENDAR