BEGIN:VCALENDAR
VERSION:2.0
PRODID:-//eventon.com NONSGML v1.0//EN
CALSCALE:GREGORIAN
METHOD:PUBLISH
BEGIN:VEVENT
UID:69e74a539d1ad
DTSTAMP:20260421T095843Z
DTSTART:20230829T140000Z
DTEND:20230829T150000Z
LOCATION:Creekside Occasions 14847 St. Rt. 772
SUMMARY:Employment First Meeting
DESCRIPTION:\nhttps://rossdd.org/events/employment-first-meeting/
URL:https://rossdd.org/events/employment-first-meeting/
END:VEVENT
END:VCALENDAR