BEGIN:VCALENDAR
VERSION:2.0
PRODID:-//eventon.com NONSGML v1.0//EN
CALSCALE:GREGORIAN
METHOD:PUBLISH
BEGIN:VEVENT
UID:69e6059120b29
DTSTAMP:20260420T105305Z
DTSTART:20240312T093000Z
DTEND:20240312T110000Z
LOCATION:RCBDD Admin Building 167 W Main St.
SUMMARY:DD Awareness & Advocacy Day Viewing Party
DESCRIPTION:\nhttps://rossdd.org/events/dd-awareness-advocacy-day-viewing-p
 arty/
URL:https://rossdd.org/events/dd-awareness-advocacy-day-viewing-party/
END:VEVENT
END:VCALENDAR