BEGIN:VCALENDAR
VERSION:2.0
PRODID:-//eventon.com NONSGML v1.0//EN
CALSCALE:GREGORIAN
METHOD:PUBLISH
BEGIN:VEVENT
UID:69e5d6d943798
DTSTAMP:20260420T073345Z
DTSTART:20240516T180000Z
DTEND:20240516T193000Z
LOCATION:RCBDD Admin Building 167 W Main St.
SUMMARY:Chillicothe Autism & DD Parent Support Group Meeting
DESCRIPTION:\nhttps://rossdd.org/events/chillicothe-autism-dd-parent-suppor
 t-group-meeting/
URL:https://rossdd.org/events/chillicothe-autism-dd-parent-support-group-meeting/
END:VEVENT
END:VCALENDAR