BEGIN:VCALENDAR
VERSION:2.0
PRODID:-//eventon.com NONSGML v1.0//EN
CALSCALE:GREGORIAN
METHOD:PUBLISH
BEGIN:VEVENT
UID:69e74ade39fe1
DTSTAMP:20260421T100102Z
DTSTART:20241102T090000Z
DTEND:20241102T140000Z
LOCATION:Pioneer School 11268 County Road 550
SUMMARY:Pioneer School Craft Bazaar
DESCRIPTION:\nhttps://rossdd.org/events/pioneer-school-craft-bazaar-2/
URL:https://rossdd.org/events/pioneer-school-craft-bazaar-2/
END:VEVENT
END:VCALENDAR