BEGIN:VCALENDAR
VERSION:2.0
PRODID:-//eventon.com NONSGML v1.0//EN
CALSCALE:GREGORIAN
METHOD:PUBLISH
BEGIN:VEVENT
UID:69e74976ae869
DTSTAMP:20260421T095502Z
DTSTART:20250201T170000Z
DTEND:20250201T200000Z
LOCATION:Pioneer School 11268 County Road 550
SUMMARY:Day to Create
DESCRIPTION:\nhttps://rossdd.org/events/day-to-create/
URL:https://rossdd.org/events/day-to-create/
END:VEVENT
END:VCALENDAR