BEGIN:VCALENDAR
VERSION:2.0
PRODID:-//eventon.com NONSGML v1.0//EN
CALSCALE:GREGORIAN
METHOD:PUBLISH
BEGIN:VEVENT
UID:69e601794ae65
DTSTAMP:20260420T103537Z
DTSTART:20250723T100000Z
DTEND:20250723T120000Z
LOCATION:iHop 10 Consumer Center Dr.
SUMMARY:Brunch with Friends
DESCRIPTION:\nhttps://rossdd.org/events/brunch-with-friends-4/
URL:https://rossdd.org/events/brunch-with-friends-4/
END:VEVENT
END:VCALENDAR