BEGIN:VCALENDAR
VERSION:2.0
PRODID:-//eventon.com NONSGML v1.0//EN
CALSCALE:GREGORIAN
METHOD:PUBLISH
BEGIN:VEVENT
UID:69e60186a2528
DTSTAMP:20260420T103550Z
DTSTART:20251108T100000Z
DTEND:20251108T130000Z
LOCATION:Landrum Youth Empowerment Center 147 N. Bridge St.
SUMMARY:Sibshops
DESCRIPTION:\nhttps://rossdd.org/events/sibshops-3/
URL:https://rossdd.org/events/sibshops-3/
END:VEVENT
END:VCALENDAR