BEGIN:VCALENDAR
VERSION:2.0
PRODID:-//eventon.com NONSGML v1.0//EN
CALSCALE:GREGORIAN
METHOD:PUBLISH
BEGIN:VEVENT
UID:69e5ef88e5eba
DTSTAMP:20260420T091904Z
DTSTART:20260306T100000Z
DTEND:20260306T110000Z
LOCATION:Ross County Courthouse 2 N. Paint St.
SUMMARY:Walk for Awareness
DESCRIPTION:Meet us at the corner of Paint &amp; Water St. as we walk to th
 e Courthouse for the Proclamation Ceremony. We will have DD Awareness Month
  shirts available for sale if you wish to buy one.\nhttps://rossdd.org/even
 ts/walk-for-awareness-3/
URL:https://rossdd.org/events/walk-for-awareness-3/
END:VEVENT
END:VCALENDAR